BEGIN:VCALENDAR
VERSION:2.0
PRODID:-//Folklorna skupina RAZOR - ECPv4.9.12//NONSGML v1.0//EN
CALSCALE:GREGORIAN
METHOD:PUBLISH
X-WR-CALNAME:Folklorna skupina RAZOR
X-ORIGINAL-URL:https://kd-fsrazor.si
X-WR-CALDESC:Events for Folklorna skupina RAZOR
BEGIN:VTIMEZONE
TZID:Europe/Ljubljana
BEGIN:DAYLIGHT
TZOFFSETFROM:+0100
TZOFFSETTO:+0200
TZNAME:CEST
DTSTART:20160327T010000
END:DAYLIGHT
BEGIN:STANDARD
TZOFFSETFROM:+0200
TZOFFSETTO:+0100
TZNAME:CET
DTSTART:20161030T010000
END:STANDARD
END:VTIMEZONE
BEGIN:VEVENT
DTSTART;TZID=Europe/Ljubljana:20160911T080000
DTEND;TZID=Europe/Ljubljana:20160911T170000
DTSTAMP:20260421T025023
CREATED:20190910T153954Z
LAST-MODIFIED:20190923T110732Z
UID:2769-1473580800-1473613200@kd-fsrazor.si
SUMMARY:3. Folklorni dan - Volčji Potok
DESCRIPTION:\n			\n				\n			\n			\n				\n			\n			\n				\n			\n			\n				\n			\n			\n				\n			\n			\n				\n			\n			\n				\n			\n			\n				\n			\n			\n				\n			\n		\n\n3. Folklorni dan – Volčji Potok – nastop plesne skupine. \n
URL:https://kd-fsrazor.si/nastop/3-folklorni-dan-volcji-potok/
LOCATION:Volčji potok\, Volčji potok\, Volčji potok\, Slovenija
CATEGORIES:Dramski nastopi,Pevski nastopi,Plesni nastopi
ATTACH;FMTTYPE=image/jpeg:https://kd-fsrazor.si/wp-content/uploads/2019/09/20160918-Volčji-1.jpg
END:VEVENT
END:VCALENDAR