BEGIN:VCALENDAR
VERSION:2.0
PRODID:-//Folklorna skupina RAZOR - ECPv4.9.12//NONSGML v1.0//EN
CALSCALE:GREGORIAN
METHOD:PUBLISH
X-WR-CALNAME:Folklorna skupina RAZOR
X-ORIGINAL-URL:https://kd-fsrazor.si
X-WR-CALDESC:Events for Folklorna skupina RAZOR
BEGIN:VTIMEZONE
TZID:Europe/Ljubljana
BEGIN:DAYLIGHT
TZOFFSETFROM:+0100
TZOFFSETTO:+0200
TZNAME:CEST
DTSTART:20170326T010000
END:DAYLIGHT
BEGIN:STANDARD
TZOFFSETFROM:+0200
TZOFFSETTO:+0100
TZNAME:CET
DTSTART:20171029T010000
END:STANDARD
END:VTIMEZONE
BEGIN:VEVENT
DTSTART;TZID=Europe/Ljubljana:20170312T080000
DTEND;TZID=Europe/Ljubljana:20170312T170000
DTSTAMP:20260422T000924
CREATED:20190611T164039Z
LAST-MODIFIED:20190611T164039Z
UID:1922-1489305600-1489338000@kd-fsrazor.si
SUMMARY:8. marec - Široko
DESCRIPTION:8. marec\, nastop dramske skupine. \n
URL:https://kd-fsrazor.si/nastop/8-marec-siroko/
LOCATION:Široko
CATEGORIES:Dramski nastopi
END:VEVENT
END:VCALENDAR