BEGIN:VCALENDAR
VERSION:2.0
PRODID:-//Folklorna skupina RAZOR - ECPv4.9.12//NONSGML v1.0//EN
CALSCALE:GREGORIAN
METHOD:PUBLISH
X-WR-CALNAME:Folklorna skupina RAZOR
X-ORIGINAL-URL:https://kd-fsrazor.si
X-WR-CALDESC:Events for Folklorna skupina RAZOR
BEGIN:VTIMEZONE
TZID:Europe/Ljubljana
BEGIN:DAYLIGHT
TZOFFSETFROM:+0100
TZOFFSETTO:+0200
TZNAME:CEST
DTSTART:20100328T010000
END:DAYLIGHT
BEGIN:STANDARD
TZOFFSETFROM:+0200
TZOFFSETTO:+0100
TZNAME:CET
DTSTART:20101031T010000
END:STANDARD
END:VTIMEZONE
BEGIN:VEVENT
DTSTART;VALUE=DATE:20100725
DTEND;VALUE=DATE:20100726
DTSTAMP:20260421T103025
CREATED:20190617T152327Z
LAST-MODIFIED:20190617T153809Z
UID:2270-1280016000-1280102399@kd-fsrazor.si
SUMMARY:Beltinci - Državna revija - 2010
DESCRIPTION:\n			\n				\n			\n				\n				Foto: Janez Eržen\n				\n			\n				\n			\n				\n				Foto: Janez Eržen\n				\n			\n				\n			\n				\n				Foto: Janez Eržen\n				\n			\n				\n			\n				\n				Foto: Janez Eržen\n				\n			\n				\n			\n				\n				Foto: Janez Eržen\n				\n			\n				\n			\n				\n				Foto: Janez Eržen\n				\n			\n				\n			\n				\n				Foto: Janez Eržen\n				\n			\n				\n			\n				\n				Foto: Janez Eržen\n				\n			\n				\n			\n				\n				Foto: Janez Eržen\n				\n		\n\n
URL:https://kd-fsrazor.si/nastop/beltinci-drzavna-revija-2010/
LOCATION:Beltinci\, Beltinci\, Slovenija
CATEGORIES:Dramski nastopi,Pevski nastopi,Plesni nastopi
ATTACH;FMTTYPE=image/jpeg:https://kd-fsrazor.si/wp-content/uploads/2019/06/2010-Beltinci-3.jpg
END:VEVENT
END:VCALENDAR