BEGIN:VCALENDAR
VERSION:2.0
PRODID:-//Folklorna skupina RAZOR - ECPv4.9.12//NONSGML v1.0//EN
CALSCALE:GREGORIAN
METHOD:PUBLISH
X-WR-CALNAME:Folklorna skupina RAZOR
X-ORIGINAL-URL:https://kd-fsrazor.si
X-WR-CALDESC:Events for Folklorna skupina RAZOR
BEGIN:VTIMEZONE
TZID:Europe/Ljubljana
BEGIN:DAYLIGHT
TZOFFSETFROM:+0100
TZOFFSETTO:+0200
TZNAME:CEST
DTSTART:20170326T010000
END:DAYLIGHT
BEGIN:STANDARD
TZOFFSETFROM:+0200
TZOFFSETTO:+0100
TZNAME:CET
DTSTART:20171029T010000
END:STANDARD
END:VTIMEZONE
BEGIN:VEVENT
DTSTART;TZID=Europe/Ljubljana:20170408T080000
DTEND;TZID=Europe/Ljubljana:20170408T170000
DTSTAMP:20260422T063528
CREATED:20190611T155458Z
LAST-MODIFIED:20190611T160417Z
UID:1890-1491638400-1491670800@kd-fsrazor.si
SUMMARY:Cvetna sobota
DESCRIPTION:Cvetna sobota. \n\n			\n				\n			\n			\n				\n			\n			\n				\n			\n			\n				\n			\n			\n				\n			\n			\n				\n			\n			\n				\n			\n		\n\n  \n
URL:https://kd-fsrazor.si/nastop/cvetna-sobota-2/
LOCATION:Tolmin – Kmetijska zadruga\, Rutarjeva ulica 35\, Tolmin
CATEGORIES:Dramski nastopi,Pevski nastopi,Plesni nastopi
ATTACH;FMTTYPE=image/jpeg:https://kd-fsrazor.si/wp-content/uploads/2019/06/2017-Cvetna-1.jpg
END:VEVENT
END:VCALENDAR