BEGIN:VCALENDAR
VERSION:2.0
PRODID:-//Folklorna skupina RAZOR - ECPv4.9.12//NONSGML v1.0//EN
CALSCALE:GREGORIAN
METHOD:PUBLISH
X-WR-CALNAME:Folklorna skupina RAZOR
X-ORIGINAL-URL:https://kd-fsrazor.si
X-WR-CALDESC:Events for Folklorna skupina RAZOR
BEGIN:VTIMEZONE
TZID:Europe/Ljubljana
BEGIN:DAYLIGHT
TZOFFSETFROM:+0100
TZOFFSETTO:+0200
TZNAME:CEST
DTSTART:20190331T010000
END:DAYLIGHT
BEGIN:STANDARD
TZOFFSETFROM:+0200
TZOFFSETTO:+0100
TZNAME:CET
DTSTART:20191027T010000
END:STANDARD
END:VTIMEZONE
BEGIN:VEVENT
DTSTART;TZID=Europe/Ljubljana:20190413T100000
DTEND;TZID=Europe/Ljubljana:20190413T100000
DTSTAMP:20260420T212659
CREATED:20190607T070754Z
LAST-MODIFIED:20190611T173242Z
UID:1342-1555149600-1555149600@kd-fsrazor.si
SUMMARY:Cvetna sobota
DESCRIPTION:            \nNastop plesne\, dramske in pevske skupine na KZ Tolmin. \n
URL:https://kd-fsrazor.si/nastop/cvetna-sobota/
LOCATION:Tolmin – Kmetijska zadruga\, Rutarjeva ulica 35\, Tolmin
CATEGORIES:Dramski nastopi,Pevski nastopi,Plesni nastopi
ATTACH;FMTTYPE=image/jpeg:https://kd-fsrazor.si/wp-content/uploads/2019/06/IMG_3755.jpg
END:VEVENT
END:VCALENDAR