BEGIN:VCALENDAR
VERSION:2.0
PRODID:-//Folklorna skupina RAZOR - ECPv4.9.12//NONSGML v1.0//EN
CALSCALE:GREGORIAN
METHOD:PUBLISH
X-WR-CALNAME:Folklorna skupina RAZOR
X-ORIGINAL-URL:https://kd-fsrazor.si
X-WR-CALDESC:Events for Folklorna skupina RAZOR
BEGIN:VTIMEZONE
TZID:Europe/Ljubljana
BEGIN:DAYLIGHT
TZOFFSETFROM:+0100
TZOFFSETTO:+0200
TZNAME:CEST
DTSTART:20160327T010000
END:DAYLIGHT
BEGIN:STANDARD
TZOFFSETFROM:+0200
TZOFFSETTO:+0100
TZNAME:CET
DTSTART:20161030T010000
END:STANDARD
END:VTIMEZONE
BEGIN:VEVENT
DTSTART;TZID=Europe/Ljubljana:20161227T080000
DTEND;TZID=Europe/Ljubljana:20161227T090000
DTSTAMP:20260422T060733
CREATED:20190910T143412Z
LAST-MODIFIED:20190910T143412Z
UID:2738-1482825600-1482829200@kd-fsrazor.si
SUMMARY:Dedek Mraz - Tolmin
DESCRIPTION:Dedek Mraz v Šolskem centru – dramska skupina \n
URL:https://kd-fsrazor.si/nastop/dedek-mraz-tolmin/
LOCATION:Tolmin – osnovna šola\, Dijaška ulica 12b\, Tolmin
CATEGORIES:Dramski nastopi
END:VEVENT
END:VCALENDAR