BEGIN:VCALENDAR
VERSION:2.0
PRODID:-//Folklorna skupina RAZOR - ECPv4.9.12//NONSGML v1.0//EN
CALSCALE:GREGORIAN
METHOD:PUBLISH
X-WR-CALNAME:Folklorna skupina RAZOR
X-ORIGINAL-URL:https://kd-fsrazor.si
X-WR-CALDESC:Events for Folklorna skupina RAZOR
BEGIN:VTIMEZONE
TZID:Europe/Ljubljana
BEGIN:DAYLIGHT
TZOFFSETFROM:+0100
TZOFFSETTO:+0200
TZNAME:CEST
DTSTART:20240331T010000
END:DAYLIGHT
BEGIN:STANDARD
TZOFFSETFROM:+0200
TZOFFSETTO:+0100
TZNAME:CET
DTSTART:20241027T010000
END:STANDARD
END:VTIMEZONE
BEGIN:VEVENT
DTSTART;TZID=Europe/Ljubljana:20240213T094500
DTEND;TZID=Europe/Ljubljana:20240213T113000
DTSTAMP:20260420T171535
CREATED:20240219T182140Z
LAST-MODIFIED:20240219T182140Z
UID:5025-1707817500-1707823800@kd-fsrazor.si
SUMMARY:Deskle - folklorna delavnica
DESCRIPTION:Štiri plesalke\, plesalec in muzikant Folklorne skupine Razor so obiskali osnovno šolo v Desklah. Na folklorni delavnici\, ki je trajala dve šolski uri\, so učence devetega razreda naučili plesati ljudska plesa mazolin in cvajšrit s Cerkljanskega. \n
URL:https://kd-fsrazor.si/nastop/deskle-folklorna-delavnica/
ATTACH;FMTTYPE=image/jpeg:https://kd-fsrazor.si/wp-content/uploads/2024/02/Dsk-fd24.jpg
END:VEVENT
END:VCALENDAR