BEGIN:VCALENDAR
VERSION:2.0
PRODID:-//Folklorna skupina RAZOR - ECPv4.9.12//NONSGML v1.0//EN
CALSCALE:GREGORIAN
METHOD:PUBLISH
X-WR-CALNAME:Folklorna skupina RAZOR
X-ORIGINAL-URL:https://kd-fsrazor.si
X-WR-CALDESC:Events for Folklorna skupina RAZOR
BEGIN:VTIMEZONE
TZID:Europe/Ljubljana
BEGIN:DAYLIGHT
TZOFFSETFROM:+0100
TZOFFSETTO:+0200
TZNAME:CEST
DTSTART:20240331T010000
END:DAYLIGHT
BEGIN:STANDARD
TZOFFSETFROM:+0200
TZOFFSETTO:+0100
TZNAME:CET
DTSTART:20241027T010000
END:STANDARD
END:VTIMEZONE
BEGIN:VEVENT
DTSTART;TZID=Europe/Ljubljana:20240308T160000
DTEND;TZID=Europe/Ljubljana:20240308T160000
DTSTAMP:20260420T203238
CREATED:20240214T090857Z
LAST-MODIFIED:20240313T201044Z
UID:5001-1709913600-1709913600@kd-fsrazor.si
SUMMARY:Deskle
DESCRIPTION:Nastop dramske skupine v Kulturnem domu v Desklah. \n\n			\n				\n			\n			\n				\n			\n			\n				\n			\n			\n				\n			\n		\n\n
URL:https://kd-fsrazor.si/nastop/deskle/
CATEGORIES:Dramski nastopi
ATTACH;FMTTYPE=image/jpeg:https://kd-fsrazor.si/wp-content/uploads/2024/02/Dsk23-00.jpg
END:VEVENT
END:VCALENDAR