BEGIN:VCALENDAR
VERSION:2.0
PRODID:-//Folklorna skupina RAZOR - ECPv4.9.12//NONSGML v1.0//EN
CALSCALE:GREGORIAN
METHOD:PUBLISH
X-WR-CALNAME:Folklorna skupina RAZOR
X-ORIGINAL-URL:https://kd-fsrazor.si
X-WR-CALDESC:Events for Folklorna skupina RAZOR
BEGIN:VTIMEZONE
TZID:Europe/Ljubljana
BEGIN:DAYLIGHT
TZOFFSETFROM:+0100
TZOFFSETTO:+0200
TZNAME:CEST
DTSTART:20190331T010000
END:DAYLIGHT
BEGIN:STANDARD
TZOFFSETFROM:+0200
TZOFFSETTO:+0100
TZNAME:CET
DTSTART:20191027T010000
END:STANDARD
END:VTIMEZONE
BEGIN:VEVENT
DTSTART;TZID=Europe/Ljubljana:20191011T090000
DTEND;TZID=Europe/Ljubljana:20191011T110000
DTSTAMP:20260421T090703
CREATED:20191009T212112Z
LAST-MODIFIED:20191014T183004Z
UID:3002-1570784400-1570791600@kd-fsrazor.si
SUMMARY:Dobro jutro
DESCRIPTION:V petek 11. oktobra 2019 smo sodelovali v oddaji TV Slovenija Dobro jutro\, ki je v živo prikazala dogajanje na tolminskem prazniku Frika Fest. Med pogovori ob stojnicah\, vodila jih je svetovalka za zdravo prehrano Marija Merljak\, smo plesali plese Zgornjega Posočja. \nFotograf: Stojan Kenda. \n\n			\n				\n			\n			\n				\n			\n			\n				\n			\n			\n				\n			\n		\n\n  \n
URL:https://kd-fsrazor.si/nastop/dobro-jutro/
LOCATION:Tolmin – Mestni trg\, Mestni trg 5\, Tolmin
CATEGORIES:Plesni nastopi
ATTACH;FMTTYPE=image/jpeg:https://kd-fsrazor.si/wp-content/uploads/2019/10/Dobro-jutro1.jpg
END:VEVENT
END:VCALENDAR