BEGIN:VCALENDAR
VERSION:2.0
PRODID:-//Folklorna skupina RAZOR - ECPv4.9.12//NONSGML v1.0//EN
CALSCALE:GREGORIAN
METHOD:PUBLISH
X-WR-CALNAME:Folklorna skupina RAZOR
X-ORIGINAL-URL:https://kd-fsrazor.si
X-WR-CALDESC:Events for Folklorna skupina RAZOR
BEGIN:VTIMEZONE
TZID:Europe/Ljubljana
BEGIN:DAYLIGHT
TZOFFSETFROM:+0100
TZOFFSETTO:+0200
TZNAME:CEST
DTSTART:20180325T010000
END:DAYLIGHT
BEGIN:STANDARD
TZOFFSETFROM:+0200
TZOFFSETTO:+0100
TZNAME:CET
DTSTART:20181028T010000
END:STANDARD
END:VTIMEZONE
BEGIN:VEVENT
DTSTART;TZID=Europe/Ljubljana:20180902T080000
DTEND;TZID=Europe/Ljubljana:20180902T170000
DTSTAMP:20260421T085726
CREATED:20190610T132432Z
LAST-MODIFIED:20190611T192843Z
UID:1531-1535875200-1535907600@kd-fsrazor.si
SUMMARY:Doma pod Triglavom
DESCRIPTION:Sodelovanje v oddaji Doma pod Triglavom. \n
URL:https://kd-fsrazor.si/nastop/doma-pod-triglavom/
LOCATION:Srednja vas\, Bohinj
CATEGORIES:Dramski nastopi
ATTACH;FMTTYPE=image/jpeg:https://kd-fsrazor.si/wp-content/uploads/2019/06/Bohinj.jpg
END:VEVENT
END:VCALENDAR