BEGIN:VCALENDAR
VERSION:2.0
PRODID:-//Folklorna skupina RAZOR - ECPv4.9.12//NONSGML v1.0//EN
CALSCALE:GREGORIAN
METHOD:PUBLISH
X-WR-CALNAME:Folklorna skupina RAZOR
X-ORIGINAL-URL:https://kd-fsrazor.si
X-WR-CALDESC:Events for Folklorna skupina RAZOR
BEGIN:VTIMEZONE
TZID:Europe/Ljubljana
BEGIN:DAYLIGHT
TZOFFSETFROM:+0100
TZOFFSETTO:+0200
TZNAME:CEST
DTSTART:20190331T010000
END:DAYLIGHT
BEGIN:STANDARD
TZOFFSETFROM:+0200
TZOFFSETTO:+0100
TZNAME:CET
DTSTART:20191027T010000
END:STANDARD
END:VTIMEZONE
BEGIN:VEVENT
DTSTART;TZID=Europe/Ljubljana:20190928T180000
DTEND;TZID=Europe/Ljubljana:20190928T180000
DTSTAMP:20260421T041759
CREATED:20190920T071228Z
LAST-MODIFIED:20191211T221819Z
UID:2825-1569693600-1569693600@kd-fsrazor.si
SUMMARY:Grgarske Ravne
DESCRIPTION:Nastop dramske skupine na jubilejnem srečanju. \n
URL:https://kd-fsrazor.si/nastop/grgarske-ravne/
LOCATION:Grgarske Ravne\, Grgarske Ravne\, 5251
CATEGORIES:Dramski nastopi
ATTACH;FMTTYPE=image/jpeg:https://kd-fsrazor.si/wp-content/uploads/2019/06/2017-Dvorec-3.jpg
END:VEVENT
END:VCALENDAR