BEGIN:VCALENDAR
VERSION:2.0
PRODID:-//Folklorna skupina RAZOR - ECPv4.9.12//NONSGML v1.0//EN
CALSCALE:GREGORIAN
METHOD:PUBLISH
X-WR-CALNAME:Folklorna skupina RAZOR
X-ORIGINAL-URL:https://kd-fsrazor.si
X-WR-CALDESC:Events for Folklorna skupina RAZOR
BEGIN:VTIMEZONE
TZID:Europe/Ljubljana
BEGIN:DAYLIGHT
TZOFFSETFROM:+0100
TZOFFSETTO:+0200
TZNAME:CEST
DTSTART:20260329T010000
END:DAYLIGHT
BEGIN:STANDARD
TZOFFSETFROM:+0200
TZOFFSETTO:+0100
TZNAME:CET
DTSTART:20261025T010000
END:STANDARD
END:VTIMEZONE
BEGIN:VEVENT
DTSTART;TZID=Europe/Ljubljana:20260221T190000
DTEND;TZID=Europe/Ljubljana:20260221T190000
DTSTAMP:20260421T042009
CREATED:20260114T190007Z
LAST-MODIFIED:20260313T110306Z
UID:5861-1771700400-1771700400@kd-fsrazor.si
SUMMARY:Kinogledališče Tolmin
DESCRIPTION:Na koncertu v Kinogledališču Tolmin so nastopili: Folklorna skupina Tine Rožanc iz Ljubljane\, Oktet Simon Gregorčič iz Kobarida in Folklorna skupina Razor. \n
URL:https://kd-fsrazor.si/nastop/kinogledalisce-tolmin/
CATEGORIES:Plesni nastopi
ATTACH;FMTTYPE=image/jpeg:https://kd-fsrazor.si/wp-content/uploads/2026/01/Roz26-01.jpg
END:VEVENT
END:VCALENDAR