BEGIN:VCALENDAR
VERSION:2.0
PRODID:-//Folklorna skupina RAZOR - ECPv4.9.12//NONSGML v1.0//EN
CALSCALE:GREGORIAN
METHOD:PUBLISH
X-WR-CALNAME:Folklorna skupina RAZOR
X-ORIGINAL-URL:https://kd-fsrazor.si
X-WR-CALDESC:Events for Folklorna skupina RAZOR
BEGIN:VTIMEZONE
TZID:Europe/Ljubljana
BEGIN:DAYLIGHT
TZOFFSETFROM:+0100
TZOFFSETTO:+0200
TZNAME:CEST
DTSTART:20160327T010000
END:DAYLIGHT
BEGIN:STANDARD
TZOFFSETFROM:+0200
TZOFFSETTO:+0100
TZNAME:CET
DTSTART:20161030T010000
END:STANDARD
END:VTIMEZONE
BEGIN:VEVENT
DTSTART;TZID=Europe/Ljubljana:20160402T170000
DTEND;TZID=Europe/Ljubljana:20160402T200000
DTSTAMP:20260422T014840
CREATED:20190918T072726Z
LAST-MODIFIED:20190918T072726Z
UID:2815-1459616400-1459627200@kd-fsrazor.si
SUMMARY:Krajevni praznik Avče
DESCRIPTION:Nastop FS Razor na krajevnem prazniku v Avčah. \n
URL:https://kd-fsrazor.si/nastop/krajevni-praznik-avce/
LOCATION:Avče\, Avče
CATEGORIES:Dramski nastopi,Pevski nastopi,Plesni nastopi
END:VEVENT
END:VCALENDAR