BEGIN:VCALENDAR
VERSION:2.0
PRODID:-//Folklorna skupina RAZOR - ECPv4.9.12//NONSGML v1.0//EN
CALSCALE:GREGORIAN
METHOD:PUBLISH
X-WR-CALNAME:Folklorna skupina RAZOR
X-ORIGINAL-URL:https://kd-fsrazor.si
X-WR-CALDESC:Events for Folklorna skupina RAZOR
BEGIN:VTIMEZONE
TZID:Europe/Ljubljana
BEGIN:DAYLIGHT
TZOFFSETFROM:+0100
TZOFFSETTO:+0200
TZNAME:CEST
DTSTART:20250330T010000
END:DAYLIGHT
BEGIN:STANDARD
TZOFFSETFROM:+0200
TZOFFSETTO:+0100
TZNAME:CET
DTSTART:20251026T010000
END:STANDARD
END:VTIMEZONE
BEGIN:VEVENT
DTSTART;TZID=Europe/Ljubljana:20250930T151500
DTEND;TZID=Europe/Ljubljana:20250930T151500
DTSTAMP:20260421T091420
CREATED:20250713T071718Z
LAST-MODIFIED:20251002T154807Z
UID:5620-1759245300-1759245300@kd-fsrazor.si
SUMMARY:Ljubljana - f3žo
DESCRIPTION:Nastop pevske skupine Razor na Festivalu za 3. življenjsko obdobje v Cankarjevem domu v Ljubljani. \nFotograf: Miran Klinkon \n\n			\n				\n			\n			\n				\n			\n			\n				\n			\n			\n				\n			\n			\n				\n			\n			\n				\n			\n		\n\n
URL:https://kd-fsrazor.si/nastop/ljubljana-f3zo-2/
CATEGORIES:Pevski nastopi
ATTACH;FMTTYPE=image/png:https://kd-fsrazor.si/wp-content/uploads/2025/07/F3ZO25-00.png
END:VEVENT
END:VCALENDAR