BEGIN:VCALENDAR
VERSION:2.0
PRODID:-//Folklorna skupina RAZOR - ECPv4.9.12//NONSGML v1.0//EN
CALSCALE:GREGORIAN
METHOD:PUBLISH
X-WR-CALNAME:Folklorna skupina RAZOR
X-ORIGINAL-URL:https://kd-fsrazor.si
X-WR-CALDESC:Events for Folklorna skupina RAZOR
BEGIN:VTIMEZONE
TZID:Europe/Ljubljana
BEGIN:DAYLIGHT
TZOFFSETFROM:+0100
TZOFFSETTO:+0200
TZNAME:CEST
DTSTART:20160327T010000
END:DAYLIGHT
BEGIN:STANDARD
TZOFFSETFROM:+0200
TZOFFSETTO:+0100
TZNAME:CET
DTSTART:20161030T010000
END:STANDARD
END:VTIMEZONE
BEGIN:VEVENT
DTSTART;TZID=Europe/Ljubljana:20160828T080000
DTEND;TZID=Europe/Ljubljana:20160828T170000
DTSTAMP:20260421T185200
CREATED:20190910T154342Z
LAST-MODIFIED:20190923T111553Z
UID:2773-1472371200-1472403600@kd-fsrazor.si
SUMMARY:Oglarski praznik - Idrijske Krnice
DESCRIPTION:\n			\n				\n			\n			\n				\n			\n			\n				\n			\n			\n				\n			\n			\n				\n			\n			\n				\n			\n		\n\nOglarski praznik – Idrijske Krnice – nastop FS Razor. \n
URL:https://kd-fsrazor.si/nastop/oglarski-praznik-idrijske-krnice/
LOCATION:Idrijske Krnice\, Idrijske Krnice\, Idrijske Krnice\, Slovenija
CATEGORIES:Dramski nastopi,Pevski nastopi,Plesni nastopi
ATTACH;FMTTYPE=image/jpeg:https://kd-fsrazor.si/wp-content/uploads/2019/09/20160828-Idrijske-7.jpg
END:VEVENT
END:VCALENDAR