BEGIN:VCALENDAR
VERSION:2.0
PRODID:-//Folklorna skupina RAZOR - ECPv4.9.12//NONSGML v1.0//EN
CALSCALE:GREGORIAN
METHOD:PUBLISH
X-WR-CALNAME:Folklorna skupina RAZOR
X-ORIGINAL-URL:https://kd-fsrazor.si
X-WR-CALDESC:Events for Folklorna skupina RAZOR
BEGIN:VTIMEZONE
TZID:Europe/Ljubljana
BEGIN:DAYLIGHT
TZOFFSETFROM:+0100
TZOFFSETTO:+0200
TZNAME:CEST
DTSTART:20250330T010000
END:DAYLIGHT
BEGIN:STANDARD
TZOFFSETFROM:+0200
TZOFFSETTO:+0100
TZNAME:CET
DTSTART:20251026T010000
END:STANDARD
END:VTIMEZONE
BEGIN:VEVENT
DTSTART;TZID=Europe/Ljubljana:20250921T113000
DTEND;TZID=Europe/Ljubljana:20250921T113000
DTSTAMP:20260421T090138
CREATED:20250926T090714Z
LAST-MODIFIED:20250927T092939Z
UID:5704-1758454200-1758454200@kd-fsrazor.si
SUMMARY:15. Pohod po Bevkovi poti - Zakojca
DESCRIPTION:Pevska skupina je nastopila v kulturnem programu pred Bevkovo domačijo v Zakojci. \n\n			\n				\n			\n		\n\n
URL:https://kd-fsrazor.si/nastop/pohod-po-bevkovi-poti-zakojca/
ATTACH;FMTTYPE=image/jpeg:https://kd-fsrazor.si/wp-content/uploads/2024/05/Bevk24-01.jpg
END:VEVENT
END:VCALENDAR