BEGIN:VCALENDAR
VERSION:2.0
PRODID:-//Folklorna skupina RAZOR - ECPv4.9.12//NONSGML v1.0//EN
CALSCALE:GREGORIAN
METHOD:PUBLISH
X-WR-CALNAME:Folklorna skupina RAZOR
X-ORIGINAL-URL:https://kd-fsrazor.si
X-WR-CALDESC:Events for Folklorna skupina RAZOR
BEGIN:VTIMEZONE
TZID:Europe/Ljubljana
BEGIN:DAYLIGHT
TZOFFSETFROM:+0100
TZOFFSETTO:+0200
TZNAME:CEST
DTSTART:20170326T010000
END:DAYLIGHT
BEGIN:STANDARD
TZOFFSETFROM:+0200
TZOFFSETTO:+0100
TZNAME:CET
DTSTART:20171029T010000
END:STANDARD
END:VTIMEZONE
BEGIN:VEVENT
DTSTART;TZID=Europe/Ljubljana:20170208T080000
DTEND;TZID=Europe/Ljubljana:20170208T170000
DTSTAMP:20260422T043017
CREATED:20190611T170730Z
LAST-MODIFIED:20190611T170730Z
UID:1936-1486540800-1486573200@kd-fsrazor.si
SUMMARY:Prešernov s`menj
DESCRIPTION:Prešernov s`menj. \n\n			\n				\n			\n				\n				Foto: Janez Eržen\n				\n			\n				\n			\n				\n				Foto: Janez Eržen\n				\n			\n				\n			\n				\n				Foto: Janez Eržen\n				\n			\n				\n			\n				\n				Foto: Janez Eržen\n				\n			\n				\n			\n				\n				Foto: Janez Eržen\n				\n			\n				\n			\n				\n				Foto: Janez Eržen\n				\n		\n\n  \n
URL:https://kd-fsrazor.si/nastop/presernov-smenj-2/
LOCATION:Kranj – Glavni trg\, Glavni trg\, Kranj
CATEGORIES:Dramski nastopi,Plesni nastopi
ATTACH;FMTTYPE=image/jpeg:https://kd-fsrazor.si/wp-content/uploads/2019/06/2017-Kranj-6.jpg
END:VEVENT
END:VCALENDAR