BEGIN:VCALENDAR
VERSION:2.0
PRODID:-//Folklorna skupina RAZOR - ECPv4.9.12//NONSGML v1.0//EN
CALSCALE:GREGORIAN
METHOD:PUBLISH
X-WR-CALNAME:Folklorna skupina RAZOR
X-ORIGINAL-URL:https://kd-fsrazor.si
X-WR-CALDESC:Events for Folklorna skupina RAZOR
BEGIN:VTIMEZONE
TZID:Europe/Ljubljana
BEGIN:DAYLIGHT
TZOFFSETFROM:+0100
TZOFFSETTO:+0200
TZNAME:CEST
DTSTART:20260329T010000
END:DAYLIGHT
BEGIN:STANDARD
TZOFFSETFROM:+0200
TZOFFSETTO:+0100
TZNAME:CET
DTSTART:20261025T010000
END:STANDARD
END:VTIMEZONE
BEGIN:VEVENT
DTSTART;TZID=Europe/Ljubljana:20260524T150000
DTEND;TZID=Europe/Ljubljana:20260524T150000
DTSTAMP:20260420T024741
CREATED:20260419T202143Z
LAST-MODIFIED:20260419T202143Z
UID:6024-1779634800-1779634800@kd-fsrazor.si
SUMMARY:Pušja vas (Venzone)
DESCRIPTION:Nastop v Benečiji na prireditvi Parkfest 2026. \n
URL:https://kd-fsrazor.si/nastop/pusja-vas-venzone/
CATEGORIES:Plesni nastopi
END:VEVENT
END:VCALENDAR