BEGIN:VCALENDAR
VERSION:2.0
PRODID:-//Folklorna skupina RAZOR - ECPv4.9.12//NONSGML v1.0//EN
CALSCALE:GREGORIAN
METHOD:PUBLISH
X-WR-CALNAME:Folklorna skupina RAZOR
X-ORIGINAL-URL:https://kd-fsrazor.si
X-WR-CALDESC:Events for Folklorna skupina RAZOR
BEGIN:VTIMEZONE
TZID:Europe/Ljubljana
BEGIN:DAYLIGHT
TZOFFSETFROM:+0100
TZOFFSETTO:+0200
TZNAME:CEST
DTSTART:20170326T010000
END:DAYLIGHT
BEGIN:STANDARD
TZOFFSETFROM:+0200
TZOFFSETTO:+0100
TZNAME:CET
DTSTART:20171029T010000
END:STANDARD
END:VTIMEZONE
BEGIN:VEVENT
DTSTART;TZID=Europe/Ljubljana:20170506T080000
DTEND;TZID=Europe/Ljubljana:20170506T170000
DTSTAMP:20260422T093707
CREATED:20190611T154815Z
LAST-MODIFIED:20190611T154815Z
UID:1879-1494057600-1494090000@kd-fsrazor.si
SUMMARY:Regijsko srečanje folklornih skupin
DESCRIPTION:Regijsko srečanje folklornih skupin. \n\n			\n				\n			\n			\n				\n			\n			\n				\n			\n			\n				\n			\n			\n				\n			\n		\n\n
URL:https://kd-fsrazor.si/nastop/regijsko-srecanje-folklornih-skupin/
LOCATION:Bled – festivalna dvorana\, Cesta svobode 11\, Bled
CATEGORIES:Dramski nastopi,Pevski nastopi,Plesni nastopi
ATTACH;FMTTYPE=image/jpeg:https://kd-fsrazor.si/wp-content/uploads/2019/06/2017-Bled-1.jpg
END:VEVENT
END:VCALENDAR