BEGIN:VCALENDAR
VERSION:2.0
PRODID:-//Folklorna skupina RAZOR - ECPv4.9.12//NONSGML v1.0//EN
CALSCALE:GREGORIAN
METHOD:PUBLISH
X-WR-CALNAME:Folklorna skupina RAZOR
X-ORIGINAL-URL:https://kd-fsrazor.si
X-WR-CALDESC:Events for Folklorna skupina RAZOR
BEGIN:VTIMEZONE
TZID:Europe/Ljubljana
BEGIN:DAYLIGHT
TZOFFSETFROM:+0100
TZOFFSETTO:+0200
TZNAME:CEST
DTSTART:20160327T010000
END:DAYLIGHT
BEGIN:STANDARD
TZOFFSETFROM:+0200
TZOFFSETTO:+0100
TZNAME:CET
DTSTART:20161030T010000
END:STANDARD
END:VTIMEZONE
BEGIN:VEVENT
DTSTART;TZID=Europe/Ljubljana:20160911T080000
DTEND;TZID=Europe/Ljubljana:20160911T170000
DTSTAMP:20260421T222422
CREATED:20190910T154132Z
LAST-MODIFIED:20190910T154132Z
UID:2771-1473580800-1473613200@kd-fsrazor.si
SUMMARY:Srečanje krajanov - Ponikve
DESCRIPTION:Srečanje krajanov – Ponikve – nastop dramske skupine. \n
URL:https://kd-fsrazor.si/nastop/srecanje-krajanov-ponikve/
LOCATION:Ponikve\, Ponikve\, Slap ob Idrijci\, 5283\, Slovenija
CATEGORIES:Dramski nastopi
END:VEVENT
END:VCALENDAR