BEGIN:VCALENDAR
VERSION:2.0
PRODID:-//Folklorna skupina RAZOR - ECPv4.9.12//NONSGML v1.0//EN
CALSCALE:GREGORIAN
METHOD:PUBLISH
X-WR-CALNAME:Folklorna skupina RAZOR
X-ORIGINAL-URL:https://kd-fsrazor.si
X-WR-CALDESC:Events for Folklorna skupina RAZOR
BEGIN:VTIMEZONE
TZID:Europe/Ljubljana
BEGIN:DAYLIGHT
TZOFFSETFROM:+0100
TZOFFSETTO:+0200
TZNAME:CEST
DTSTART:20260329T010000
END:DAYLIGHT
BEGIN:STANDARD
TZOFFSETFROM:+0200
TZOFFSETTO:+0100
TZNAME:CET
DTSTART:20261025T010000
END:STANDARD
END:VTIMEZONE
BEGIN:VEVENT
DTSTART;TZID=Europe/Ljubljana:20260311T140000
DTEND;TZID=Europe/Ljubljana:20260311T140000
DTSTAMP:20260420T234807
CREATED:20260213T162332Z
LAST-MODIFIED:20260313T104856Z
UID:5930-1773237600-1773237600@kd-fsrazor.si
SUMMARY:Tolmin
DESCRIPTION:Dramska skupina je nastopila na občnem zboru Društva kmečkih žena Tolmin v prostorih Alpije. Odigrala je dva skeča Pametni telefon in Skregani sosedi. \n\n			\n				\n			\n			\n				\n			\n			\n				\n			\n			\n				\n			\n		\n\n  \n  \n
URL:https://kd-fsrazor.si/nastop/tolmin-14/
CATEGORIES:Dramski nastopi
ATTACH;FMTTYPE=image/png:https://kd-fsrazor.si/wp-content/uploads/2026/02/Alp-00.png
END:VEVENT
END:VCALENDAR