BEGIN:VCALENDAR
VERSION:2.0
PRODID:-//Folklorna skupina RAZOR - ECPv4.9.12//NONSGML v1.0//EN
CALSCALE:GREGORIAN
METHOD:PUBLISH
X-WR-CALNAME:Folklorna skupina RAZOR
X-ORIGINAL-URL:https://kd-fsrazor.si
X-WR-CALDESC:Events for Folklorna skupina RAZOR
BEGIN:VTIMEZONE
TZID:Europe/Ljubljana
BEGIN:DAYLIGHT
TZOFFSETFROM:+0100
TZOFFSETTO:+0200
TZNAME:CEST
DTSTART:20250330T010000
END:DAYLIGHT
BEGIN:STANDARD
TZOFFSETFROM:+0200
TZOFFSETTO:+0100
TZNAME:CET
DTSTART:20251026T010000
END:STANDARD
END:VTIMEZONE
BEGIN:VEVENT
DTSTART;TZID=Europe/Ljubljana:20250304T160000
DTEND;TZID=Europe/Ljubljana:20250304T160000
DTSTAMP:20260421T050855
CREATED:20250103T102637Z
LAST-MODIFIED:20260220T162958Z
UID:5375-1741104000-1741104000@kd-fsrazor.si
SUMMARY:6. Grofova povorka
DESCRIPTION:Sodelovanje dramske skupine in ostalih članov Folklorne skupine Razor na 6. grofovi povorki. \n\n			\n				\n			\n			\n				\n			\n			\n				\n			\n			\n				\n			\n			\n				\n			\n		\n\n  \n
URL:https://kd-fsrazor.si/nastop/tolmin-8/
CATEGORIES:Dramski nastopi
ATTACH;FMTTYPE=image/jpeg:https://kd-fsrazor.si/wp-content/uploads/2025/01/Pust25-6.jpg
END:VEVENT
END:VCALENDAR