BEGIN:VCALENDAR
VERSION:2.0
PRODID:-//Folklorna skupina RAZOR - ECPv4.9.12//NONSGML v1.0//EN
CALSCALE:GREGORIAN
METHOD:PUBLISH
X-WR-CALNAME:Folklorna skupina RAZOR
X-ORIGINAL-URL:https://kd-fsrazor.si
X-WR-CALDESC:Events for Folklorna skupina RAZOR
BEGIN:VTIMEZONE
TZID:Europe/Ljubljana
BEGIN:DAYLIGHT
TZOFFSETFROM:+0100
TZOFFSETTO:+0200
TZNAME:CEST
DTSTART:20240331T010000
END:DAYLIGHT
BEGIN:STANDARD
TZOFFSETFROM:+0200
TZOFFSETTO:+0100
TZNAME:CET
DTSTART:20241027T010000
END:STANDARD
END:VTIMEZONE
BEGIN:VEVENT
DTSTART;TZID=Europe/Ljubljana:20241219T180000
DTEND;TZID=Europe/Ljubljana:20241219T180000
DTSTAMP:20260420T192337
CREATED:20241220T094552Z
LAST-MODIFIED:20250110T095007Z
UID:5351-1734631200-1734631200@kd-fsrazor.si
SUMMARY:Tolminski muzej
DESCRIPTION:Pevska skupina je nastopila na otvoritvi etnološke razstave Na dvorišču železnodobnih prednikov. \nFotograf: Miran Klinkon \n\n			\n				\n			\n			\n				\n			\n		\n\n
URL:https://kd-fsrazor.si/nastop/tolminski-muzej/
CATEGORIES:Pevski nastopi
ATTACH;FMTTYPE=image/jpeg:https://kd-fsrazor.si/wp-content/uploads/2024/12/Muz24-01.jpg
END:VEVENT
END:VCALENDAR