BEGIN:VCALENDAR
VERSION:2.0
PRODID:-//Folklorna skupina RAZOR - ECPv4.9.12//NONSGML v1.0//EN
CALSCALE:GREGORIAN
METHOD:PUBLISH
X-WR-CALNAME:Folklorna skupina RAZOR
X-ORIGINAL-URL:https://kd-fsrazor.si
X-WR-CALDESC:Events for Folklorna skupina RAZOR
BEGIN:VTIMEZONE
TZID:Europe/Ljubljana
BEGIN:DAYLIGHT
TZOFFSETFROM:+0100
TZOFFSETTO:+0200
TZNAME:CEST
DTSTART:20260329T010000
END:DAYLIGHT
BEGIN:STANDARD
TZOFFSETFROM:+0200
TZOFFSETTO:+0100
TZNAME:CET
DTSTART:20261025T010000
END:STANDARD
END:VTIMEZONE
BEGIN:VEVENT
DTSTART;TZID=Europe/Ljubljana:20260321T190000
DTEND;TZID=Europe/Ljubljana:20260321T190000
DTSTAMP:20260421T102542
CREATED:20251225T200720Z
LAST-MODIFIED:20260325T200246Z
UID:5850-1774119600-1774119600@kd-fsrazor.si
SUMMARY:Umag - Primorska poje
DESCRIPTION:Pevska skupina je nastopila na tradicionalni prireditvi Primorska poje v Gledališki dvorani “Antonio Coslovich” v Umagu. Zapela je tri pesmi\, zadnjo ob spremljavi harmonikarja Tadeja. \nFotograf: Miran Klinkon \n\n			\n				\n			\n				\n				vaje za preizkus odra\n				\n			\n				\n			\n			\n				\n			\n			\n				\n			\n			\n				\n			\n				\n				skupna zaključna pesem vseh nastopajočih  pevskih zborov \n				\n		\n\n
URL:https://kd-fsrazor.si/nastop/umag-primorska-poje/
CATEGORIES:Pevski nastopi
ATTACH;FMTTYPE=image/png:https://kd-fsrazor.si/wp-content/uploads/2025/12/PP26-01.png
END:VEVENT
END:VCALENDAR