BEGIN:VCALENDAR
VERSION:2.0
PRODID:-//Folklorna skupina RAZOR - ECPv4.9.12//NONSGML v1.0//EN
CALSCALE:GREGORIAN
METHOD:PUBLISH
X-WR-CALNAME:Folklorna skupina RAZOR
X-ORIGINAL-URL:https://kd-fsrazor.si
X-WR-CALDESC:Events for Folklorna skupina RAZOR
BEGIN:VTIMEZONE
TZID:Europe/Ljubljana
BEGIN:DAYLIGHT
TZOFFSETFROM:+0100
TZOFFSETTO:+0200
TZNAME:CEST
DTSTART:20160327T010000
END:DAYLIGHT
BEGIN:STANDARD
TZOFFSETFROM:+0200
TZOFFSETTO:+0100
TZNAME:CET
DTSTART:20161030T010000
END:STANDARD
END:VTIMEZONE
BEGIN:VEVENT
DTSTART;TZID=Europe/Ljubljana:20160421T080000
DTEND;TZID=Europe/Ljubljana:20160421T090000
DTSTAMP:20260421T171257
CREATED:20190918T071531Z
LAST-MODIFIED:20190918T071531Z
UID:2805-1461225600-1461229200@kd-fsrazor.si
SUMMARY:Vrtec Tolmin
DESCRIPTION:Druženje z Ježki in Zajčki v vrtcu Tolmin. \n
URL:https://kd-fsrazor.si/nastop/vrtec-tolmin/
LOCATION:Tolmin – Vrtec\, Vrtec Tolmin
CATEGORIES:Plesni nastopi
END:VEVENT
END:VCALENDAR